BEGIN:VCALENDAR
VERSION:2.0
PRODID:-//BPW Switzerland//NONSGML kigkonsult.se iCalcreator 2.16.12//
METHOD:PUBLISH
X-MS-OLK-FORCEINSPECTOROPEN:TRUE
BEGIN:VEVENT
UID:20260422T131111CEST-65399NEUmW@BPW Switzerland
DTSTAMP:20260422T111111Z
DESCRIPTION:Mittwoch\, 19. März 2014\, Hotel Sport\, Klosters\nBeginn der V
 ersammlung: 19.00 Uhr\nAnschliessend: Apéro riche 'Weltreise' Fr. 30.- pro
  Person\n\n\n\nIm Anschluss an die Versammlung informiert Ursula Schmid \n
 über das BPW Mentoring Projekt Südostschweiz. \n\nDie Einladung mit Trakta
 ndenliste und Unterlagen wird per Post zugestellt.\nDie Unterlagen stehen 
 im Memberbereich auch zum Download zur Verfügung.\n \nKosten\n\nDer Anlass
  selber ist kostenlos. Essen und Getränke gehen zu Lasten der Teilnehmende
 n und werden direkt vor Ort in bar beglichen.\n\nWeg\n\nWir bilden Fahrgem
 einschaften. Bitte bei der Anmeldung eintragen\, ob ein Mitfahrplatz gewün
 scht wird.\n\nAnmeldung \nbis Montag\, 17. März 2014\n\nüber den Anmeldedo
 odle \nper Mail an Elsbeth Kluker\noder Telefon 079 749 25 27\n\n \n
DTSTART:20140319T190000
DTEND:20140319T230000
LOCATION:BPW Davos Klosters\, Hotel Sport\, Klosters
ORGANIZER:MAILTO:BPW Switzerland <davos@bpw.ch>
SUMMARY:58. Mitgliederversammlung
END:VEVENT
END:VCALENDAR
