BEGIN:VCALENDAR
VERSION:2.0
PRODID:-//BPW Switzerland//NONSGML kigkonsult.se iCalcreator 2.16.12//
METHOD:PUBLISH
X-MS-OLK-FORCEINSPECTOROPEN:TRUE
BEGIN:VEVENT
UID:20260422T131208CEST-4480URvPM1@BPW Switzerland
DTSTAMP:20260422T111208Z
DESCRIPTION:Swissalp-Fantasy wurde 2001 als eigenständige Firma gegründet. 
 Mit witzigen Eigenkreationen im Ethno-Stil ging die Nachfrage stets nach o
 ben und die Kollektion wurde stets erweitert.\n\nWie werden neue Kreatione
 n entwickelt? Wie und wo holt man sich Ideen um den neuen Trend's gerecht 
 zu werden? Warum Eigenproduktion? Nicht kleinkariert?\n\nEsther Heldstab w
 ird uns dies in ihrem Einführungsreferat näher bringen und uns Einblick in
  ihre spannende Tätigkeit geben.\n\n\n \nProgramm\n\n19.00 Uhr\nApéro und 
 Referat im SwissalpFantasy Shop Promenade 79\, Davos Platz\nAnschliessend 
 Nachtessen im KaffeeKlatsch\n\nMenu\n\nFleisch\nKalbsschnitzel an Pilzrahm
 sauce mit\nFrühlingskartoffeln\nund frischem Frühlingsgemüse\n\nVegi\nDink
 elnudeln mit frischem Frühlingsgemüse vom Grill\, wenig rassiges Chilioliv
 enöl\nund semigetrocknete Tomaten\, dazu einen Klecks cremiger Hüttenkäse
 \n\nCHF 29.90\n\nKosten\n\nDer Anlass selber ist kostenlos. Essen und Getr
 änke gehen zu Lasten der Teilnehmenden und werden direkt vor Ort in bar be
 glichen.\n\nWeg\n\nWir bilden Fahrgemeinschaften. Bitte bei der Anmeldung 
 eintragen\, ob ein Mitfahrplatz gewünscht wird.\n\nAnmeldung \nbis Montag\
 , 7. April 2014\n\nüber den Anmeldedoodle \nper Mail an Elsbeth Kluker\nod
 er Telefon 079 749 25 27\n\n \n\n \n
DTSTART:20140409T190000
DTEND:20140409T230000
LOCATION:BPW Davos Klosters
ORGANIZER:MAILTO:BPW Switzerland <davos@bpw.ch>
SUMMARY:Eigenproduktion - warum?
END:VEVENT
END:VCALENDAR
