BEGIN:VCALENDAR
VERSION:2.0
PRODID:-//BPW Switzerland//NONSGML kigkonsult.se iCalcreator 2.16.12//
METHOD:PUBLISH
X-MS-OLK-FORCEINSPECTOROPEN:TRUE
BEGIN:VEVENT
UID:20260422T131110CEST-63947HvOfV@BPW Switzerland
DTSTAMP:20260422T111110Z
DESCRIPTION:Thema: 'Wege zum Erfolg: Vorbilder beflügeln - Netzwerke tragen
 '\n\nStänderätin Karin Keller-Sutter\, Microsoft-Chefin Petra Jenner\, SEC
 O-Direktorin Marie-Gabrielle Ineichen-Fleisch und Autorin Sandra Willmerot
 h sind die Hauptreferentinnen am siebten Businesstag in Vaduz.\n\nAm 12. M
 ai 2014 findet zum siebten Mal der «Businesstag – Das Wirtschaftsforum für
  Frauen» statt.\nDie bisherigen sechs Durchführungen der Tagung waren mit 
 jeweils 500 Gästen aus Liechtenstein\, der Schweiz und Österreich ausverka
 uft.\n\nDatum: Montag\, 12. Mai 2014\nOrt: Vaduzer Saal\, Vaduz\n\n16.00 U
 hr:\nBegrüssung durch Regierung des Fürstentums Liechtenstein\n\n16.15 Uhr
 :\nMarie-Gabrielle Ineichen-Fleisch\, Keynote\n\n16.50 Uhr:\nKarin-Keller 
 Sutter\, Business-Talk\n\n17.20 – 18.00 Uhr:\nErfrischungspause\n\n18.00 U
 hr:\nSandra Willmeroth im Gespräch\n\n18.30 Uhr:\nPetra Jenner\, «Neue Arb
 eitswelt. Neue Führung: Mit Verstand und Herz»\n\n19:05 Uhr:\nNetworking-A
 péro\nmit kulinarischen Kreationen\nder Werdenberger Bäuerinnen\n\nModerat
 ion:\nMonika Schärer\n\n\nIm Vorfeld der Tagung werden optional vier Works
 hops kostenlos angeboten (siehe Workshops)!\n\nProgramm\nAnmeldung\n\nMitf
 ahrgelegenheit Doodle\n\n \n
DTSTART:20140512T160000
DTEND:20140512T230000
LOCATION:BPW Davos Klosters
ORGANIZER:MAILTO:BPW Switzerland <davos@bpw.ch>
SUMMARY:7. Businesstag Vaduz  
END:VEVENT
END:VCALENDAR
