BEGIN:VCALENDAR
VERSION:2.0
PRODID:-//BPW Switzerland//NONSGML kigkonsult.se iCalcreator 2.16.12//
METHOD:PUBLISH
X-MS-OLK-FORCEINSPECTOROPEN:TRUE
BEGIN:VEVENT
UID:20260422T131245CEST-1778soFv0x@BPW Switzerland
DTSTAMP:20260422T111245Z
DESCRIPTION:Der Betrieb in unserer Region\n\nReferat von Uta Klötert Kündig
 \, Schweizerische Herzstiftung\nWas Frauen über Herz-Kreislauf-Krankheiten
  wissen sollten\n\n \nProgramm\n\nTreffpunkt für Fahrereinnen und Mitfahre
 rinnen\n18.10 Uhr Bahnhof Davos Platz\n18.15 Uhr Pischa Terminal Davos Dor
 f\n18.30 Uhr Bardill Sport Klosters Platz\n18.35 Uhr Bushaltestelle Rufini
 s Klosters Dorf\n(Mitfahrerinnen bezahlen der Fahrerin wie üblich Fr. 5.00
 )\n\n19.00 Uhr\nReferat und Hausführung\nAnschliessend Abendessen\n\nMenu
 \n\nFleisch:\nBunter Salatteller mit gebratenem Kalbsschnitzel und Kräuter
 butter mit Salatsauce nach Wahl\n\nVegi:\nBunter Salatteller mit gebratene
 m Zürichsee-Felchenfilet im Kräutermantel mit Salatsauce nach Wahl\n\nFr. 
 24.00\n\nKosten\n\nDer Anlass selber ist kostenlos. Essen und Getränke geh
 en zu Lasten der Teilnehmenden und werden direkt vor Ort in bar beglichen.
 \n\nWeg\n\nWir bilden Fahrgemeinschaften. Bitte bei der Anmeldung eintrage
 n\, ob ein Mitfahrplatz gewünscht wird.\n\nAnmeldung \nbis Montag\, 9. Jun
 i 2014\n\nüber den Anmeldedoodle \nper Mail an Elsbeth Kluker\noder Telefo
 n 079 749 25 27\n\n \n
DTSTART:20140611T190000
DTEND:20140611T230000
LOCATION:BPW Davos Klosters\, REHA Seewis
ORGANIZER:MAILTO:BPW Switzerland <davos@bpw.ch>
SUMMARY:REHA Seewis - Gut fürs Herz
END:VEVENT
END:VCALENDAR
