BEGIN:VCALENDAR
VERSION:2.0
PRODID:-//BPW Switzerland//NONSGML kigkonsult.se iCalcreator 2.16.12//
METHOD:PUBLISH
X-MS-OLK-FORCEINSPECTOROPEN:TRUE
BEGIN:VEVENT
UID:20260422T130957CEST-3399JVpa3s@BPW Switzerland
DTSTAMP:20260422T110957Z
DESCRIPTION:Festeröffnung/Fahnenempfang/Auslandschweizer Empfang/Veteranen-
 Ehrung\n\n\nDatum:  Freitag\, 4. Juli 2014\nZeit: 13.30 – ca. 15.30\n\nOrt
 :Sportplatz Davos (Schlechtwettervariante: Vaillant Arena)\n\nZusammen mit
  22 Vereinen hat sich auch BPW Davos Klosters für eine Teilnahme an der Fe
 steröffnung angemeldet. Wir hoffen\, dass wir mit 15 – 20 Damen an der Fes
 teröffnung teilnehmen können und rechnen auch mit DIR!. Als einheitliche K
 leidung müssen alle schwarz gekleidet sein (Hose/Bluse oder T’Shirt) mit g
 elbem Schal. Gelbe Schals haben wir organisiert.\n\n\n29. Eidgenössisches 
 Jodlerfest 2014 Davos Klosters\n\nWir helfen mit!\n\n\nAnmeldedoodle
DTSTART:20140704T133000
DTEND:20140706T200000
LOCATION:BPW Davos Klosters\, Davos Klosters
ORGANIZER:MAILTO:BPW Switzerland <davos@bpw.ch>
SUMMARY:29. Eidgenössisches Jodlerfest 
END:VEVENT
END:VCALENDAR
