BEGIN:VCALENDAR
VERSION:2.0
PRODID:-//BPW Switzerland//NONSGML kigkonsult.se iCalcreator 2.16.12//
METHOD:PUBLISH
X-MS-OLK-FORCEINSPECTOROPEN:TRUE
BEGIN:VEVENT
UID:20260422T130931CEST-5350cu91bF@BPW Switzerland
DTSTAMP:20260422T110931Z
DESCRIPTION:Einführungsreferat Eva Waldburger\n'Parelli - Ausbildung für Pf
 erde - Lebensschule für Menschen: Parelli ist keine Reitart. Es ist eine G
 rundausbildung für Mensch und Pferd\, welche auf gegenseitiger Kommunikati
 on\, auf Respekt und Vertrauen zwischen Mensch und Pferd basiert und welch
 e die unterschiedlichen Ansprüche der verschiedenen Pferdepersönlichkeiten
  berücksichtigt. Im Parelli Programm steht zu Beginn nicht das Training de
 s Pferdes im Vordergrund\; vielmehr liegt der Fokus bei der Ausbildung des
  Menschen. Wollt Ihr mehr wissen? Kommt ans Einführungsreferat von Eva...'
 \n \nProgramm\n\n18.45 Uhr\nBeginn Referat und Apéro\nVorführung Parelli-H
 orsemanship\nGulfia-Hof\, Klosters Dorf\n(Anfahrt: Bahnhof Klosters-Dorf R
 ichtung Ara\, weiterfahren über kleine Landquart-Brücke bis zum Gulfia-Hof
 \, ganz zuunterst an der Landquart)\n\nAchtung! Das Referat findet Outdoor
  statt\, d.h. bitte warme Kleidung und geländegängige Schuhe tragen.\n\n19
 .45 h Nachtessen Hotel Silvapina\, Klosters Dorf\n\n\nMenu\n\nFleisch:\nGe
 grilltes Gemüse und Roastbeef\n\nVegi:\nGegrilltes Gemüse und Omelette\n\n
 Fr. 20.00\n\nDessert kann auf Wunsch (zusätzlich) vor Ort bestellt werden.
 \n\nKosten\n\nDer Anlass selber ist kostenlos. Essen und Getränke gehen zu
  Lasten der Teilnehmenden und werden direkt vor Ort in bar beglichen.\n\nW
 eg\n\nWir bilden Fahrgemeinschaften. Bitte bei der Anmeldung eintragen\, o
 b ein Mitfahrplatz gewünscht wird.\n\nAnmeldung \nbis Montag\, 8. Septembe
 r 2014\n\nüber den Anmeldedoodle \nper Mail an Elsbeth Kluker\noder Telefo
 n 079 749 25 27\n\n \n\n\n\n 
DTSTART:20140910T184500
DTEND:20140910T230000
LOCATION:Klosters Dorf
ORGANIZER:MAILTO:BPW Switzerland <davos@bpw.ch>
SUMMARY:Parelli: Ausbildung für Pferde - Lebensschule für Menschen
END:VEVENT
END:VCALENDAR
