BEGIN:VCALENDAR
VERSION:2.0
PRODID:-//BPW Switzerland//NONSGML kigkonsult.se iCalcreator 2.16.12//
METHOD:PUBLISH
X-MS-OLK-FORCEINSPECTOROPEN:TRUE
BEGIN:VEVENT
UID:20260422T130758CEST-2047Dfe7GV@BPW Switzerland
DTSTAMP:20260422T110758Z
DESCRIPTION: Unter der Leitung von Annett Ehrentraut diskutieren\n\n  \n\nF
 otos: Zürcher Höhenklinik\, HCD und Evang. Kirchgemeinde Davos Dorf\n \n\n
 - Dr. Isabelle Rittmeyer\, Chefärztin Psychosomatik\, Zürcher Höhenklinik 
 Clavadel\n- Dr. Walter Kistler\, Chefarzt Innere Medizin\, Spital Davos\n-
  Christian Pfeiffer\, Sozialdiakonischer Mitarbeiter\, Evangelische Kirchg
 emeinde Davos Dorf\n\nDas breite Spektrum des 'Herzschmerzes' wird sicher 
 eine interessante und spannende Podiumsrunde ergeben. Wir freuen uns auf e
 ine zahlreiche Zuhörerschar.\n\n\n\nProgramm\n\n19.00 Uhr\nHotel Meierhof
 \nBeginn Sofagespräch mit anschliesendem Abendessen\n\n\nMenu\n\nGelbes Ho
 nig-Rüeblisüppchen\n****\nKräuter-Risotto mit glasierten Kirschtomaten\n\n
 Fr. 29.50 pro Person inklusive Mineralwasser \n\n\nKosten\n\nDer Anlass se
 lber ist kostenlos. Essen und Getränke gehen zu Lasten der Teilnehmenden u
 nd werden direkt vor Ort in bar beglichen.\n\n\nWeg\n\nWir bilden Fahrgeme
 inschaften. Bitte bei der Anmeldung eintragen\, ob ein Mitfahrplatz gewüns
 cht wird.\n\n\nAnmeldung \nbis Montag\, 6. Oktober 2014\n\nüber den Anmeld
 edoodle \nper Mail an Elsbeth Kluker\noder Telefon 079 749 25 27\n\n \n
DTSTART:20141008T190000
DTEND:20141008T230000
LOCATION:Hotel Meierhof
ORGANIZER:MAILTO:BPW Switzerland <davos@bpw.ch>
SUMMARY:Sofagespräch Herzschmerz
END:VEVENT
END:VCALENDAR
