BEGIN:VCALENDAR
VERSION:2.0
PRODID:-//BPW Switzerland//NONSGML kigkonsult.se iCalcreator 2.16.12//
METHOD:PUBLISH
X-MS-OLK-FORCEINSPECTOROPEN:TRUE
BEGIN:VEVENT
UID:20260422T133155CEST-7978ix5VuO@BPW Switzerland
DTSTAMP:20260422T113155Z
DESCRIPTION:Rotary - Kiwanis - Junge Wirtschaftskammer - Lions - BPW\n\nPro
 gramm\n\n19.00 Uhr Apéro\nanschliessend Referat und Abendessen\n\n\nSchlus
 s mit Jammern !\nReferat von Sabine Asgodom\n\nGanz ehrlich: Jeder von uns
  hat zumindest ab und zu den Hang zum Jammern. Unternehmer jammern über Mi
 tarbeiter oder Kosten\, Mitarbeiter über ihre Vorgesetzten\, Ruheständler 
 darüber\, dass sie keine Zeit haben.\n\n\nSabine Asgodom\n \n\nSabine Asgo
 dom vertritt die These: Fünf Minuten Jammern ist okay\, dann heisst es ent
 weder Dinge oder die Einstellung zu verändern. Denn Jammern frisst Energie
 .\n\n\nKosten\n\nFr. 65.00 pro Person (Apéro\, Abendessen\, Mineralwasser 
 und Kaffee/Tee)\n\nWein und alkoholische Getränke zum Abendessen müssen ex
 tra bezahlt werden. \n \n\nWeg\n\nWir bilden Fahrgemeinschaften. Bitte bei
  der Anmeldung eintragen\, ob ein Mitfahrplatz gewünscht wird.\n \n\nFlyer
  zum Download\n\nAnmeldung bitte mit Name und Vorname\nbis Sonntag\, 26. O
 ktober 2014 \n(Teilnahme und Anmeldung nur als Aktivmitglied möglich)\n\nü
 ber den Anmeldedoodle\n\nper Mail an Elsbeth Kluker\noder Telefon 079 749 
 25 27\n\n \n\n 
DTSTART:20141103T190000
DTEND:20141103T230000
LOCATION:Hotel InterContinental Davos
ORGANIZER:MAILTO:BPW Switzerland <davos@bpw.ch>
SUMMARY:5er Treffen
END:VEVENT
END:VCALENDAR
