BEGIN:VCALENDAR
VERSION:2.0
PRODID:-//BPW Switzerland//NONSGML kigkonsult.se iCalcreator 2.16.12//
METHOD:PUBLISH
X-MS-OLK-FORCEINSPECTOROPEN:TRUE
BEGIN:VEVENT
UID:20260422T133329CEST-5646vHkVUT@BPW Switzerland
DTSTAMP:20260422T113329Z
DESCRIPTION:\n \nProgramm\n\n19.00 Uhr\, Hotel Kulm Davos Woflgang \n \nApé
 ro mit den Kindern des Familien-Transitzentrums Laret \n\nFrauen helfen Fr
 auen: Wir sammeln für die Frauen vom Familien-Transitzentrum Laret.\nDanke
  für einen Beitrag von mind. Fr. 25.--\, höhere Beiträge sind natürlich wi
 llkommen.\n\nGesprächsrunde: Wünsch dir was - wünsch mir was\n\nMenu\n\nFl
 eisch\nTomatenessenz mit Griessklösschen\n******\nIm Ofen gegartes Rindsfi
 let mit Pfeffersauce garniert\nKartoffelbaumkuchen\, Gemüsekörbchen\n\nVeg
 i: Feine Crêpes mit Rahmgemüse und frittiertem Broccoli\n\n******\nHimbeer
 halbgefrorenes im Nussmantel mit Saisonfrüchten garniert\n\nPreis Fr. 50.0
 0\n \n\nKosten\n\nDer Anlass selber ist kostenlos. Essen und Getränke gehe
 n zu Lasten der Teilnehmenden und werden direkt vor Ort in bar beglichen.
 \n \n\nWeg\n\nWir bilden Fahrgemeinschaften. Bitte bei der Anmeldung eintr
 agen\, ob ein Mitfahrplatz gewünscht wird.\n \n\nAnmeldung \nbis Montag\, 
 8. Dezember 2014\n\nüber den Anmeldedoodle \nper Mail an Elsbeth Kluker\no
 der Telefon 079 749 25 27\n\n \n
DTSTART:20141210T190000
DTEND:20141210T200000
LOCATION:BPW Davos Klosters
ORGANIZER:MAILTO:BPW Switzerland <davos@bpw.ch>
SUMMARY:Weihnachten mit Herz
END:VEVENT
END:VCALENDAR
