BEGIN:VCALENDAR
VERSION:2.0
PRODID:-//BPW Switzerland//NONSGML kigkonsult.se iCalcreator 2.16.12//
METHOD:PUBLISH
X-MS-OLK-FORCEINSPECTOROPEN:TRUE
BEGIN:VEVENT
UID:20260422T130804CEST-7843NWUcXH@BPW Switzerland
DTSTAMP:20260422T110804Z
DESCRIPTION:Workshop mit Yvonne Villiger\, Expertin für Business-Humor\n\n
 \n \nMit Humor im Business zum Erfolg!\n\nKann ich mit Humor meine eigene 
 Produktivität sowie die Leistungsfähigkeit meiner Mitarbeiter steigern? Yv
 onne Villigers 'Business-Humor-Prinzip' eröffnet dir ganz neue Perspektive
 n und Sichtweisen. Es fördert den eigenen Humor und zeigt auf\, wie du mit
  dieser kraftvollen Ressource stilvoll und erfolgreich im Business punkten
  kannst. Mit den Tools des 'Business-Humor-Prinzips' lassen sich wichtige 
 Arbeitsprozesse leicht und einfach umsetzen. Mit wirkungsvollen Techniken 
 wird das eigene Humorpotenzial gefördert. Dadurch entsteht eine hohe Eigen
 motivation\, welche Mitarbeiter gleichzeitig fit und langfristig im Untern
 ehmen hält. Dies wirkt sich positiv auf Betriebskosten aus.\n\nZufriedene 
 Mitarbeiter - mehr Erfolg!\n\n\n\nDieser Workshop richtet sich an BPW & Fr
 iends\, die mit Humor im Business erfolgreich sein und mit neuen Ideen und
  Tipps weiterkommen wollen.\n \nProgramm\n\n\n	\n		\n			Datum\n			20. August 2014\,
  19.00 - 22.00 Uhr\n		\n		\n			Ort\n			Kongresszentrum Davos\, Eingang Promenade Nor
 d\n		\n		\n			Kursleitung\n			Frau Yvonne Villiger\n		\n		\n			Kurskosten\n			CHF 120.00 inkl.
  Kursunterlagen und Getränk\n		\n		\n			Teilnahme\n			für BPW & Friends\n		\n		\n			Teilneh
 merinnenzahl\n			mind. 15\, max. 25 Teilnehmerinnen\n		\n	\n\n\n \n \n\nBedingun
 gen\n\nDie Anmeldungen sind verbindlich. Mitteilung über die definitive Du
 rchführung erfolgt am 30. Juni 2014 (Mindestteilnehmerzahl). Bei zu gering
 er Teilnehmerzahl wird der Kurs ohne Kostenfolge für den Club nicht durchg
 eführt. Die Einschreibung erfolgt nach Eingang der Anmeldung\; maximale Te
 ilnehmerzahl: 25 BPW.\n\nMit der Mitteilung der definitiven Durchführung w
 erden die Kurskosten fällig.\n\nBei Abmeldungen nach Einzahlung der Teilne
 hmergebühr besteht kein Anspruch auf Rückzahlung der Gebühren\; der Club z
 ahlt die Gebühren zurück\, wenn der Platz neu besetzt werden kann.\n\nDie 
 Anmeldungen werden nach ihrem Eingang berücksichtigt.\n\nFlyer\n\n \n\nAnm
 eldungen\n\nAnmeldungen bis 10. August 2014 ausschliesslich über die Webse
 ite\n \n\nper Mail an Elsbeth Kluker\noder Telefon 079 749 25 27\n\n \n\n 
 \n
DTSTART:20140820T190000
DTEND:20140820T220000
LOCATION:Kongresshaus Davos
ORGANIZER:MAILTO:BPW Switzerland <davos@bpw.ch>
SUMMARY:Workshop - Wer lacht\, hat noch Ressourcen frei! 
END:VEVENT
END:VCALENDAR
