BEGIN:VCALENDAR
VERSION:2.0
PRODID:-//BPW Switzerland//NONSGML kigkonsult.se iCalcreator 2.16.12//
METHOD:PUBLISH
X-MS-OLK-FORCEINSPECTOROPEN:TRUE
BEGIN:VEVENT
UID:20260422T133044CEST-2890uZSu2r@BPW Switzerland
DTSTAMP:20260422T113044Z
DESCRIPTION:Informal Get-Together in English\n\n\n\n\nNo registration requi
 red - just drop in and join us! \nBring your partner/friend with you and e
 njoy this AfterWork-Special!\n\nMay 15th\, 2014\, 7-8 pm\nMeeting\nevery 1
 st and 3rd Thursday from 7 - 8 pm\nHilton Garden Inn\, Davos Platz\n\n\n 
DTSTART:20140515T190000
DTEND:20140515T200000
LOCATION:BPW Davos Klosters\, Hilton Garden Inn\, Davos Platz
ORGANIZER:MAILTO:BPW Switzerland <davos@bpw.ch>
SUMMARY:Afterwork Chat
END:VEVENT
END:VCALENDAR
