BEGIN:VCALENDAR
VERSION:2.0
PRODID:-//BPW Switzerland//NONSGML kigkonsult.se iCalcreator 2.16.12//
METHOD:PUBLISH
X-MS-OLK-FORCEINSPECTOROPEN:TRUE
BEGIN:VEVENT
UID:20260422T131014CEST-4112MgSNrN@BPW Switzerland
DTSTAMP:20260422T111014Z
DESCRIPTION:Regionaltreffen bei BPW Chur  \nWir freuen uns\, euch zum Regio
 nalanlass einzuladen mit dem Thema\n\nBild: Chur Tourismus\nProgramm\nDonn
 erstag 11. September 2014\n\n18.30 Uhr\nEintreffen und Willkommensapéro\nR
 estaurant VA BENE in Chur\, Gäuggelistrasse 60\n\n19.00 Uhr\nReferat von D
 r. Werner Finck\, Leiter des Personalamtes des Kantons Graubünden. Ehemali
 ger\, oberster Leiter Human Ressources\nder Ems-Gruppe in Domat/ Ems und b
 ei Ems-Chemie (weltweit) als Mitglied der erweiterten Direktion\n\n19.45 U
 hr\nDiskussion der verschiedenen Thesen\, die aus dem Referat resultieren\
 , im Rahmen eines World Café (Moderations-Methode für Grossgruppen)\n\n21.
 30 Uhr\nEnde der offiziellen Veranstaltung\nMenu\nKulinarisch werden wir u
 ns mit einem Apéro-riche stärken und verwöhnen lassen.\n\nKosten: Fr. 46.-
  - (inklusiv Getränke)\n \nKosten\n\nDer Anlass selber ist kostenlos. Esse
 n und Getränke gehen zu Lasten der Teilnehmenden und werden direkt vor Ort
  in bar beglichen.\n\nWeg\n\nWir bilden Fahrgemeinschaften. Bitte bei der 
 Anmeldung eintragen\, ob ein Mitfahrplatz gewünscht wird.\n\nAnmeldung \nb
 is Dienstag\, 9. September 2014\n\nüber den Anmeldedoodle \nper Mail an El
 sbeth Kluker\noder Telefon 079 749 25 27\n\n \n\n 
DTSTART:20140911T180000
DTEND:20140911T220000
LOCATION:Regionaltreffen bei BPW Chur
ORGANIZER:MAILTO:BPW Switzerland <davos@bpw.ch>
SUMMARY:Das kleine 1x1 der Führung  „Handwerk oder Kunst?“
END:VEVENT
END:VCALENDAR
