BEGIN:VCALENDAR
VERSION:2.0
PRODID:-//BPW Switzerland//NONSGML kigkonsult.se iCalcreator 2.16.12//
METHOD:PUBLISH
X-MS-OLK-FORCEINSPECTOROPEN:TRUE
BEGIN:VEVENT
UID:20260422T103139CEST-05068dinVF@BPW Switzerland
DTSTAMP:20260422T083139Z
DESCRIPTION:\n \nDie Frauenvereine Davos besuchen im Turnus die Bewohner im
  Pflegeheim Davos. Dieses Jahr sind wir an der Reihe\, den Pflegebewohnern
  unsere Zeit zu schenken und diese mit Geschichten und Liedern zu überrasc
 hen. \n \nZum gemütlichen Zvieri sind Kuchenspenden willkommen (Bitte im D
 oodle eintragen).\n \nTreffpunkt:\nDonnerstag\, 11. Dezember 2014\, 15.00h
 \,  Foyer Spital Davos\n\nAnmeldedoodle\n 
DTSTART:20141211T150000
DTEND:20141211T170000
LOCATION:Spital Davos
ORGANIZER:MAILTO:BPW Switzerland <davos@bpw.ch>
SUMMARY:Besuch im Pflegeheim
END:VEVENT
END:VCALENDAR
