BEGIN:VCALENDAR
VERSION:2.0
PRODID:-//BPW Switzerland//NONSGML kigkonsult.se iCalcreator 2.16.12//
METHOD:PUBLISH
X-MS-OLK-FORCEINSPECTOROPEN:TRUE
BEGIN:VEVENT
UID:20260422T103104CEST-21376f837l@BPW Switzerland
DTSTAMP:20260422T083104Z
DESCRIPTION:\n\n \nProgramm\n\n19.00 Uhr Apéro und Referat durch Prof. Wern
 er Schmutz im Physikalisch - Meteorologisches Observatorium mit anschliess
 endem Abendessen im Turmhotel Victoria\n\n \n\nMenu\n\nToskanische Tomaten
 suppe mit Knoblauchcroûtons\nFr. 9.00 pro Person\n\nBunter Gemüseteller mi
 t Olivenöl und Nüssen\nFr. 16.50\n \n\nKosten\n\nDer Anlass selber ist kos
 tenlos. Essen und Getränke gehen zu Lasten der Teilnehmenden und werden di
 rekt vor Ort in bar beglichen.\n \n\nWeg\n\nWir bilden Fahrgemeinschaften.
  Bitte bei der Anmeldung eintragen\, ob ein Mitfahrplatz gewünscht wird. P
 arkplätze stehen beim Turmhotel Victoria zur Verfügung.\n \n\nAnmeldung \n
 bis Montag\, 12. Januar 2015\n\nüber den Anmeldedoodle \nper Mail an Elsbe
 th Kluker\noder Telefon 079 749 25 27\n\n \n\n 
DTSTART:20150114T190000
DTEND:20150114T223000
LOCATION:BPW Davos Klosters\, PMOD Davos Dorf
ORGANIZER:MAILTO:BPW Switzerland <davos@bpw.ch>
SUMMARY:Nacht der Sterne
END:VEVENT
END:VCALENDAR
