BEGIN:VCALENDAR
VERSION:2.0
PRODID:-//BPW Switzerland//NONSGML kigkonsult.se iCalcreator 2.16.12//
METHOD:PUBLISH
X-MS-OLK-FORCEINSPECTOROPEN:TRUE
BEGIN:VEVENT
UID:20260422T102400CEST-0218LPexef@BPW Switzerland
DTSTAMP:20260422T082400Z
DESCRIPTION:\n\n \nProgramm\n\n19.00 Uhr Eintreffen und Apéro im Morosani P
 osthotel\nAnschliessend Kerzenlichtfeier und Abendessen\n\n\nMenu\n\nKokos
 -Limettensuppe mit Joghurt \n****\nWarme Genüsse rund um den Globus\nSalti
 m Bocca vom Kalb\, Marsalasauce\, Safranrisotto\nBrokkoliröschen mit Mande
 lbutter\n\nVegi: Pfannkuchen mit Frischkäse-Schnittlauchfüllung und Pfiffe
 rlingsragout\n\n*****\nSüsse Verführungen aus unsere Pâtisserie\nTiramisu 
 mit Waldbeeren\n\nMenupreis CHF 55.00 pro Person\n \n\nKosten\n\nDer Anlas
 s selber ist kostenlos. Essen und Getränke gehen zu Lasten der Teilnehmend
 en und werden direkt vor Ort in bar beglichen.\n\nWeg\n\nWir bilden Fahrge
 meinschaften. Bitte bei der Anmeldung eintragen\, ob ein Mitfahrplatz gewü
 nscht wird.\n\nAnmeldung \nbis Montag\, 16. Februar 2015\n\nüber den Anmel
 dedoodle \nper Mail an Elsbeth Kluker\noder Telefon 079 749 25 27\n
DTSTART:20150218T190000
DTEND:20150218T223000
LOCATION:BPW Davos Klosters
ORGANIZER:MAILTO:BPW Switzerland <davos@bpw.ch>
SUMMARY:Kerzenlichtfeier
END:VEVENT
END:VCALENDAR
