BEGIN:VCALENDAR
VERSION:2.0
PRODID:-//BPW Switzerland//NONSGML kigkonsult.se iCalcreator 2.16.12//
METHOD:PUBLISH
X-MS-OLK-FORCEINSPECTOROPEN:TRUE
BEGIN:VEVENT
UID:20260420T142514CEST-5094ZhMImv@BPW Switzerland
DTSTAMP:20260420T122514Z
DESCRIPTION:\n\n\nIn Zusammenarbeit mit den Davoser Frauenorganisationen\nW
 ir besuchen gemeinsam die Kinovorführung des Films:\nDas Mädchen Wadjda\n 
 \n\nProgramm\n\n20.30 Uhr Kino Arkaden mit anschliessendem Apéro\n \n\nKos
 ten\n\n\n\n\n\nEintritt für BPW und Interessentinnen gratis.\n\n \n\nWeg\n
 \nWir bilden Fahrgemeinschaften. Bitte bei der Anmeldung eintragen\, ob ei
 n Mitfahrplatz gewünscht wird.\n\nAnmeldung \nbis Freitag\, 6. März 2015\n
 \nüber den Anmeldedoodle \nper Mail an Barbara Schneiderr\noder Telefon 08
 1 420 40 80\n\n \n
DTSTART:20150308T203000
DTEND:20150308T230000
LOCATION:BPW Davos Klosters\, Kino Arkaden
ORGANIZER:MAILTO:BPW Switzerland <davos@bpw.ch>
SUMMARY:Int. Tag der Frau - Das Mädchen Wadjda
END:VEVENT
END:VCALENDAR
