BEGIN:VCALENDAR
VERSION:2.0
PRODID:-//BPW Switzerland//NONSGML kigkonsult.se iCalcreator 2.16.12//
METHOD:PUBLISH
X-MS-OLK-FORCEINSPECTOROPEN:TRUE
BEGIN:VEVENT
UID:20260422T101403CEST-1373Jxl5OM@BPW Switzerland
DTSTAMP:20260422T081403Z
DESCRIPTION:Der Vorstand lädt ein zur 59. Mitgliederversammlung\n\n\n\nProg
 ramm\n\n19.00 Uhr\nBeginn Mitgliederversammlung\n\nanschiessend gemütliche
 s Beisammensein bei Chees & Wine\n \n\nMenu\n\nCheese & Wine Party\nFr. 30
 .00\n\nKosten\n\nDer Anlass selber ist kostenlos. Essen und Getränke gehen
  zu Lasten der Teilnehmenden und werden direkt vor Ort in bar beglichen.\n
 \nWeg\n\nWir bilden Fahrgemeinschaften. Bitte bei der Anmeldung eintragen\
 , ob ein Mitfahrplatz gewünscht wird.\n\nAnmeldung \nüber den Anmeldedoodl
 e \nper Mail an Elsbeth Kluker\noder Telefon 079 749 25 27 \n\n\n 
DTSTART:20150318T190000
DTEND:20150318T223000
LOCATION:BPW Davos Klosters
ORGANIZER:MAILTO:BPW Switzerland <davos@bpw.ch>
SUMMARY:59. Mitgliederversammlung
END:VEVENT
END:VCALENDAR
