BEGIN:VCALENDAR
VERSION:2.0
PRODID:-//BPW Switzerland//NONSGML kigkonsult.se iCalcreator 2.16.12//
METHOD:PUBLISH
X-MS-OLK-FORCEINSPECTOROPEN:TRUE
BEGIN:VEVENT
UID:20260422T101402CEST-6733n3WuOX@BPW Switzerland
DTSTAMP:20260422T081402Z
DESCRIPTION:Einführungsreferat von Andrea Meng - MENGskates & MENGschliff D
 avos\n\nDer Schliff macht den Unterschied - oder doch nicht? Was bedeutet 
 MENGskates und MENGschliff? Sind die Unterschiede der Messerbeschaffenheit
  wirklich so bedeutend oder reicht ein guter Schliff? Dies und vieles ande
 res mehr erfahren wir im Referat von Andrea Meng.\n\n\nClaudio Meng an der
  Arbeit\n \nProgramm\n\n19.00 Uhr\nARGO Wohnheim\, Rossweidstrasse 5\, 727
 0 Davos Platz\nAnschliessend Referat und Nachtessen\n \n\nMenu\n\nDoppelte
 s Kalbsteak auf Portweinjus\nKartoffelgratin\ngebratenes Spargel-Karotteng
 emüse\n\nFr. 30.00 inkl. Kaffee und Mineralwasser\n\nVegi\nGemüsepfanne mi
 t Basmatireis\n\nFr. 23.00 inkl. Kaffee und Mineralwasser\n \n\nKosten\n\n
 Der Anlass selber ist kostenlos. Essen und Getränke gehen zu Lasten der Te
 ilnehmenden und werden direkt vor Ort in bar beglichen.\n \n\nWeg\n\nWir b
 ilden Fahrgemeinschaften. Bitte bei der Anmeldung eintragen\, ob ein Mitfa
 hrplatz gewünscht wird.\n \n\nAnmeldung \nbis Montag\, 13. April 2015\n\nü
 ber den Anmeldedoodle \nper Mail an Elsbeth Kluker\noder Telefon 079 749 2
 5 27\n\n \n \n\n \n
DTSTART:20150415T190000
DTEND:20150415T223000
LOCATION:BPW Davos Klosters\, Davos Platz\, Rossweidstrasse 5
ORGANIZER:MAILTO:BPW Switzerland <davos@bpw.ch>
SUMMARY:Cool and Sharp
END:VEVENT
END:VCALENDAR
