BEGIN:VCALENDAR
VERSION:2.0
PRODID:-//BPW Switzerland//NONSGML kigkonsult.se iCalcreator 2.16.12//
METHOD:PUBLISH
X-MS-OLK-FORCEINSPECTOROPEN:TRUE
BEGIN:VEVENT
UID:20260422T101603CEST-20008OzZ5Z@BPW Switzerland
DTSTAMP:20260422T081603Z
DESCRIPTION:Vom Stadtmädchen zur Bergbäuerin\n\nDer Beruf Bäuerin ist so vi
 elseitig und interessant wie kaum ein anderer. Die Arbeit mit den Tieren u
 nd der Natur\, das Kreieren von neuen Produkten\, das Führen von Mitarbeit
 ern\, das Einhalten von sämtlichen Vorschriften\, usw. Die Mischung von al
 l dem führt zu einem spannenden Alltag und lässt es nie langweilig werden.
 \n\n\nIch freue mich\, euch einiges von meiner Person sowie von unserem vi
 elseitigen Betrieb zu erzählen!\n\n\n\n\nProgramm\n\n19.00 Uhr\nTreffpunkt
  Kesslerhof\, Gandaweg 18\, 7252 Klosters Dorf\nBegrüssungsapéro\nAnschlie
 ssend Einführungsreferat Marianne Kessler mit Hofführung\n(Gutes Schuhwerk
  und warme Kleidung mitnehmen)\n\n20.00 Uhr\nHofbuffet\n \n\nMenu\n\nSüsse
 s und Salziges aus Eigenproduktion\n(auch vegetarisch)\n\nFr. 28.00\n \n\n
 Kosten\n\nDer Anlass selber ist kostenlos. Essen und Getränke gehen zu Las
 ten der Teilnehmenden und werden direkt vor Ort in bar beglichen.\n \n\nWe
 g\n\nAb der Kreuzung Madrisabahn links runter\, dann nur noch der Beschild
 erung folgen.\nWir bilden Fahrgemeinschaften. Bitte bei der Anmeldung eint
 ragen\, ob ein Mitfahrplatz gewünscht wird.\n \n\nAnmeldung \nbis Montag\,
  13. Juli 2015\n\nüber den Anmeldedoodle \nper Mail an Elsbeth Kluker\node
 r Telefon 079 749 25 27\n\n \n
DTSTART:20150715T190000
DTEND:20150715T223000
LOCATION:Kesslerhof Klosters
ORGANIZER:MAILTO:BPW Switzerland <davos@bpw.ch>
SUMMARY:Der Betrieb in unserer Region - Der Kesslerhof
END:VEVENT
END:VCALENDAR
