BEGIN:VCALENDAR
VERSION:2.0
PRODID:-//BPW Switzerland//NONSGML kigkonsult.se iCalcreator 2.16.12//
METHOD:PUBLISH
X-MS-OLK-FORCEINSPECTOROPEN:TRUE
BEGIN:VEVENT
UID:20260422T101525CEST-39683oEPtG@BPW Switzerland
DTSTAMP:20260422T081525Z
DESCRIPTION:Das spezielle Kocherlebnis !\n\nUnter fachkundiger Anleitung du
 rch Herbert Sandberger\, ehem. Küchenchef Sporthotel Central Davos\, lerne
 n wir aus alltäglichen Produkten spezielles zu kreieren.\n\nVerschiedene T
 eige und herrliche Suppen sind die Basis dieses Kurses und zeigen uns das 
 kreative und saisongerechte Kochen auf. Lass dir das spannende Kocherlebni
 s nicht entgehen!\n\n\n \n Programm\n\n18.00 Uhr Beginn des Kurses\n\nDeta
 ils siehe Flyer\n \n\nKosten\nFr. 95.00 inkl. Rezepte\, Essen und Getränke
 \n\nWeg\n\nWir bilden Fahrgemeinschaften. Bitte bei der Anmeldung eintrage
 n\, ob ein Mitfahrplatz gewünscht wird.\n\nAnmeldung \nbis 12. Juni 2015 a
 usschliesslich über die Webseite Kurse\n\n \n\n\n 
DTSTART:20150617T180000
DTEND:20150617T220000
LOCATION:BPW Davos Klosters
ORGANIZER:MAILTO:BPW Switzerland <davos@bpw.ch>
SUMMARY:Sterneküche - einfach - genial !
END:VEVENT
END:VCALENDAR
