BEGIN:VCALENDAR
VERSION:2.0
PRODID:-//BPW Switzerland//NONSGML kigkonsult.se iCalcreator 2.16.12//
METHOD:PUBLISH
X-MS-OLK-FORCEINSPECTOROPEN:TRUE
BEGIN:VEVENT
UID:20260422T103338CEST-42634TzXUN@BPW Switzerland
DTSTAMP:20260422T083338Z
DESCRIPTION:\n\n \n\nAchtung Programmänderung !\n\n18.00 Uhr Treffpunkt Füh
 rung beim Reitstall Davos Frauenkirch\nab 19.30 Uhr Restaurant Landhuus Fr
 auenkirch\n\n\nTeilnehmerinnen\, welche später eintreffen\, können die Org
 anisatorin über Handy erreichen oder kommen direkt ins Restaurant.\n\nDie 
 Führung findet bei jeder Witterung statt. Regenpellerine und Wanderschuhe 
 mitnehmen!\n \n\nKosten\n\nDer Anlass selber ist kostenlos.\n\nWeg\n\nWir 
 bilden Fahrgemeinschaften. Bitte bei der Anmeldung eintragen\, ob ein Mitf
 ahrplatz gewünscht wird.\n\nAnmeldung \nbis Dienstag\, 18. August 2015\nüb
 er den Anmeldedoodle \nper Mail an Elsbeth Kluker\noder Telefon 079 749 25
  27\n\n
DTSTART:20150819T180000
DTEND:20150819T220000
LOCATION:BPW Davos Klosters\, Gwunderwald
ORGANIZER:MAILTO:BPW Switzerland <davos@bpw.ch>
SUMMARY:Sonne\, Mond und Sterne - im Gwunderwald
END:VEVENT
END:VCALENDAR
