BEGIN:VCALENDAR
VERSION:2.0
PRODID:-//BPW Switzerland//NONSGML kigkonsult.se iCalcreator 2.16.12//
METHOD:PUBLISH
X-MS-OLK-FORCEINSPECTOROPEN:TRUE
BEGIN:VEVENT
UID:20260422T103338CEST-0275Vxm6eL@BPW Switzerland
DTSTAMP:20260422T083338Z
DESCRIPTION:„Ein Kleinhotel in den Bergen führen\, das wäre mein Traum“ - d
 as hört man viel!!\n\nIst es wirklich so spannend\, vielseitig und unterha
 ltsam?  Hat sich der Traum bewahrheitet? Kann man trotz viel Arbeit noch F
 reude am Führen eines Hotels haben? Wie sieht es heute\, in dieser schwier
 igen Phase im Tourismus\, aus?\n\n\n\nIn ihrem Einführungsreferat wird Mic
 haela Wolf\, Sport Lodge Klosters uns diese Fragen sicherlich beantworten 
 können.\nProgramm\n19.00 Treffpunkt und  Apéro bei schönem Wetter im Garte
 n \nmit anschliessender Führung durch das Hotel und Referat\nMenu\nTypisch
 er Schweizer Znacht – Gschwellti mit Käse\nSalat\n\nDessert zum Selbermach
 en\n\nPreis inkl. aller Getränke:  Fr. 35.00\n\nKosten\nDer  Anlass selber
  ist kostenlos. Essen und Getränke gehen zu Lasten der   Teilnehmenden und
  werden direkt vor Ort in bar beglichen.\nWeg\n\nWir bilden Fahrgemeinscha
 ften. Bitte bei der Anmeldung eintragen\, ob ein Mitfahrplatz gewünscht wi
 rd. Parkplätze rund ums Hotel Sport Lodge Klosters.\nDas Hotel inkl. Umgeb
 ung ist rollstuhlgängig.\nAnmeldung \nbis Montag\, 7. September 2015\n\nüb
 er den Anmeldedoodle \nper Mail an Heidi Trepp\noder Telefon 079 639 29 61
 \n\n\n\n\n·        \n\n
DTSTART:20150909T190000
DTEND:20150909T223000
LOCATION:BPW Davos Klosters\, Sport Lodge Klosters
ORGANIZER:MAILTO:BPW Switzerland <davos@bpw.ch>
SUMMARY:Ein einfacher Ort - um einfach zu sein
END:VEVENT
END:VCALENDAR
