BEGIN:VCALENDAR
VERSION:2.0
PRODID:-//BPW Switzerland//NONSGML kigkonsult.se iCalcreator 2.16.12//
METHOD:PUBLISH
X-MS-OLK-FORCEINSPECTOROPEN:TRUE
BEGIN:VEVENT
UID:20260422T103410CEST-9044SjZ1c6@BPW Switzerland
DTSTAMP:20260422T083410Z
DESCRIPTION:Tauchen wir miteinander in die magische Sternenwelt ein und gre
 ifen  nach unseren Sternen des Glücks – \n\nim Sinne von Heinrich Heine: „
 In uns selbst liegen die Sterne des Glücks“.\n\n \n\n \n\nVortrag von Regi
 na Casanova\, Botschafterin des Kosmos – Fachperson für seriöse Astrologie
 \n\nErwachsenenbildnerin und Medienschaffende\n\n \n\n\nProgramm\nab 19.30
  Uhr Türöffnung und Abendkasse\n20.00 Uhr Beginn\nKongresszentrum Davos\, 
 Eingang Promenade Nord\nHaus B\, Saal Parsenn\n \n\nKosten\nCHF 15.00\n(Mi
 tglieder BPW Davos Klosters Eintritt frei)\n \n\nWeg\n\nWir bilden Fahrgem
 einschaften. Bitte bei der Anmeldung eintragen\, ob ein Mitfahrplatz gewün
 scht wird.\n\n\nAnmeldung \nbis Montag\, 12. Oktober 2015\n\nüber den Anme
 ldedoodle \nper Mail an Elsbeth Kluker\noder Telefon 079 749 25 27\n\n \n
 \n\n \n
DTSTART:20151014T200000
DTEND:20151014T223000
LOCATION:BPW Davos Klosters
ORGANIZER:MAILTO:BPW Switzerland <davos@bpw.ch>
SUMMARY:Die Macht der Sterne - Öffentlicher Vortrag
END:VEVENT
END:VCALENDAR
