BEGIN:VCALENDAR
VERSION:2.0
PRODID:-//BPW Switzerland//NONSGML kigkonsult.se iCalcreator 2.16.12//
METHOD:PUBLISH
X-MS-OLK-FORCEINSPECTOROPEN:TRUE
BEGIN:VEVENT
UID:20260422T102456CEST-8233TLu7AF@BPW Switzerland
DTSTAMP:20260422T082456Z
DESCRIPTION:\n\nDas diesjährige 5er Treffen wird durch die Junge Wirtschaft
 skammer Davos organisiert. Es erwartet uns ein spannendes Programm mit ein
 em Show Act. Die Junge Wirtschaftskammer Davos freut sich auf zahlreiche A
 nmeldungen.\n \nProgramm\n\n19.00 Uhr\nHotel Seehof\, Davos Dorf mit ansch
 liessendem Abendessen\n\nDetailprogramm\n \n\nKosten\n\nMenu pro Person Fr
 . 70.00 inkl. Wasser und Kaffee. \nDer Anlass selber ist kostenlos. Essen 
 und Getränke gehen zu Lasten der Teilnehmenden und werden direkt vor Ort i
 n bar beglichen.\n \n\nWeg\n\nWir bilden Fahrgemeinschaften. Bitte bei der
  Anmeldung eintragen\, ob ein Mitfahrplatz gewünscht wird.\n \n\nAnmeldung
  \nbis Mittwoch\, 28. Oktober 2015\n\nüber den Anmeldedoodle \nper Mail an
  Elsbeth Kluker\noder Telefon 079 749 25 27\n
DTSTART:20151102T190000
DTEND:20151102T230000
LOCATION:BPW Davos Klosters
ORGANIZER:MAILTO:BPW Switzerland <davos@bpw.ch>
SUMMARY:5er Treffen der Serviceclubs Davos Klosters
END:VEVENT
END:VCALENDAR
