BEGIN:VCALENDAR
VERSION:2.0
PRODID:-//BPW Switzerland//NONSGML kigkonsult.se iCalcreator 2.16.12//
METHOD:PUBLISH
X-MS-OLK-FORCEINSPECTOROPEN:TRUE
BEGIN:VEVENT
UID:20260422T102345CEST-5479F6cgch@BPW Switzerland
DTSTAMP:20260422T082345Z
DESCRIPTION:\n\n\nProgramm\n\n18.45 Uhr \nTreffpunkt Kirche St. Jakob Klost
 ers Parkplatz gegenüber Restaurant Casanna\nBesuch der Kirche mit Orgelmus
 ik gespielt vom Organisten Peter Bauer\nAlex Schaub: Begegnungen mit den K
 irchenfenstern von Augusto Giacometti\, 'Il Maestro dei Colori' genannt.\n
 Anschliessend Apéro und Abendessen im Restaurant Walserhof\n\nIn diesem Ja
 hr beschenken wir uns als 'Wichtel' gegenseitig: Jede Teilnehmerin bringt 
 ein Geschenk im Wert von ca. CHF 20.- mit.\n\nMenü\n\nHausgemachte Hischsa
 lsiz\, würziger Monbieler Bergkäse\, knuspriges Speck-Ruchbrot und Bergkar
 toffeln zusammen mit Apéro\n***\nEssenz vom luftgetrockneten Rindfleisch d
 er Metzgerei Hatecke mit geräuchertem Stör und Rande\n***\nDas Prättigauer
  Kalb\nRosa Nierstück mit Kartoffelgratin und alles vom Sellerie\n***\nBlu
 torangen-Schokoladenparfait mit weihnachtlichen Gewürzen und Glühweineis\n
 ***\nWeihnachtsbäckerei und Pralinen von unserer Zuckerfee Elisabeth\n\nVe
 getarische Alternative (bitte bei Anmeldung angeben):\nCappuccino von der 
 Kastanie mit Trüffelschaum\n***\nCapuns (vegetarisch) auf Kräuterseitlinge
 n\n***\nBlutorangen-Schokoladenparfait mit weihnachtlichen Gewürzen und Gl
 ühweineis\n***\nWeihnachtsbäckerei und Pralinen von unserer Zuckerfee Elis
 abeth\n\nPreis CHF 59.- pro Person\n\nKosten\nDer Anlass selbst ist kosten
 los. Essen und Getränke gehen zu Lasten der Teilnehmerinnen und werden dir
 ekt vor Ort in bar beglichen.\n\nWeg\nWir bilden Fahrgemeinschaften. Bitte
  bei der Anmeldung eintragen\, ob ein Mitfahrplatz gewünscht wird. Zugverb
 indung Davos ab 18.06 Uhr / Klosters an 18.29 Uhr.\n\nBitte denkt an warme
  Kleidung\, da es in der Kirche etwas kalt sein kann.\n\nAnmeldung\nbis Mo
 ntag\, 07. Dezember 2015\n\nüber den Anmeldedoodle\nper Mail an Martina Wa
 lsoe\noder Telefon 078 851 00 23\n 
DTSTART:20151209T184500
DTEND:20151209T230000
LOCATION:Walserhof Klosters
ORGANIZER:MAILTO:BPW Switzerland <davos@bpw.ch>
SUMMARY:Der Stern von Bethlehem - Adventsfeier
END:VEVENT
END:VCALENDAR
