BEGIN:VCALENDAR
VERSION:2.0
PRODID:-//BPW Switzerland//NONSGML kigkonsult.se iCalcreator 2.16.12//
METHOD:PUBLISH
X-MS-OLK-FORCEINSPECTOROPEN:TRUE
BEGIN:VEVENT
UID:20260422T101352CEST-50118jKoB4@BPW Switzerland
DTSTAMP:20260422T081352Z
DESCRIPTION:Programm\n\n10.00Uhr Besammlung Helferinnen in Absprache mit He
 idi Trepp (Bitte im Doodle Tel.Nummer angeben)\n\n12.00Uhr Equal Pay Day L
 unch im KaffeeKlatsch Davos\n\nKosten\n\nDer Anlass selber ist kostenlos. 
 Essen und Getränke gehen zu Lasten der Teilnehmenden und werden direkt vor
  Ort in bar beglichen.\n\nWeg\n\nWir bilden Fahrgemeinschaften. Bitte bei 
 der Anmeldung eintragen\, ob ein Mitfahrplatz gewünscht wird.\n\nAnmeldung
  \nbis Donnerstag\, 5. März 2015\n\nüber den Anmeldedoodle \nper Mail an B
 arbara Schneider\noder Telefon 081 420 40 80\n\n\n\n \n
DTSTART:20150309T120000
DTEND:20150309T130000
LOCATION:KaffeeKlatsch Davos Platz
ORGANIZER:MAILTO:BPW Switzerland <davos@bpw.ch>
SUMMARY:Equal Pay Day Lunch
END:VEVENT
END:VCALENDAR
