BEGIN:VCALENDAR
VERSION:2.0
PRODID:-//BPW Switzerland//NONSGML kigkonsult.se iCalcreator 2.16.12//
METHOD:PUBLISH
X-MS-OLK-FORCEINSPECTOROPEN:TRUE
BEGIN:VEVENT
UID:20260422T101402CEST-3499CCt7M0@BPW Switzerland
DTSTAMP:20260422T081402Z
DESCRIPTION:Indischer Abend\n\n\n\nGastgeberin: Heidi Trepp \nFreitag\, 10.
  April 2015\, 19.30 Uhr\n\nGästezahl: max. 6 Personen\n\nDer Anlass ist au
 sgebucht.\n\nDen definitiv Angemeldeten wird die genaue Adresse bekannt ge
 geben.\ngemäss den Bedingungen von dinner@home\n\n
DTSTART:20150410T193000
DTEND:20150410T223000
LOCATION:BPW Davos-Klosters\, Klosters
ORGANIZER:MAILTO:BPW Switzerland <davos@bpw.ch>
SUMMARY:Dinner@home - Indisch
END:VEVENT
END:VCALENDAR
