BEGIN:VCALENDAR
VERSION:2.0
PRODID:-//BPW Switzerland//NONSGML kigkonsult.se iCalcreator 2.16.12//
METHOD:PUBLISH
X-MS-OLK-FORCEINSPECTOROPEN:TRUE
BEGIN:VEVENT
UID:20260420T142950CEST-8892ek8Ich@BPW Switzerland
DTSTAMP:20260420T122950Z
DESCRIPTION:Veganischer Abend\n\n\nGastgeberin: Christine Schmutz\n\nMittwo
 ch\, 6. Mai 2015\, 19.30 Uhr\n\nGästezahl: max. 6 Personen\n\nTeilnahme in
  der Reihenfolge der Anmeldungen \n\n\n
DTSTART:20150506T193000
DTEND:20150506T213000
LOCATION:BPW Davos Klosters\, Davos Dorf
ORGANIZER:MAILTO:BPW Switzerland <davos@bpw.ch>
SUMMARY:Dinner@home - Vegan
END:VEVENT
END:VCALENDAR
