BEGIN:VCALENDAR
VERSION:2.0
PRODID:-//BPW Switzerland//NONSGML kigkonsult.se iCalcreator 2.16.12//
METHOD:PUBLISH
X-MS-OLK-FORCEINSPECTOROPEN:TRUE
BEGIN:VEVENT
UID:20260422T101524CEST-5501VxVcLo@BPW Switzerland
DTSTAMP:20260422T081524Z
DESCRIPTION:Thema Zirkusfrauen – Frauenzirkus\n \n\nBesondere Momente erleb
 en Sie mit der Zirkusfamilie Mugg. Sie zaubern und ver­zaubern\, moderiere
 n und jonglieren. Gemeinsam wollen wir lachen\, staunen\, erleben.\n \n\n
 \nKosten\n\nFr. 120.00/Person bei individueller Anfahrt bis Betschwanden\n
 \nBesammlung ist um 18.00 Uhr beim Bahnhof Glarus.\n\nAnmeldung und weiter
 e Details über: Link BPW Rheintal\n\nAnmeldedoodle für Bus\n \n
DTSTART:20150918T160000
DTEND:20150918T220000
LOCATION:Glarus
ORGANIZER:MAILTO:BPW Switzerland <davos@bpw.ch>
SUMMARY:Regionalanlass Glarus
END:VEVENT
END:VCALENDAR
