BEGIN:VCALENDAR
VERSION:2.0
PRODID:-//BPW Switzerland//NONSGML kigkonsult.se iCalcreator 2.16.12//
METHOD:PUBLISH
X-MS-OLK-FORCEINSPECTOROPEN:TRUE
BEGIN:VEVENT
UID:20260422T101524CEST-2387szbvfH@BPW Switzerland
DTSTAMP:20260422T081524Z
DESCRIPTION:Das detaillierte Programm findest du unter www.businesstag.li/S
 tartseite/tabid/256/Default.aspx\n\n\n\nPreis: Fr. 220.00 (BPW erhalten ei
 nen reduzierten Preis)\n\n\nDie Anmeldung erfolgt direkt über obigen Link.
 \n\nAnmeldedoodle für Organisation der Fahrt.\n \n
DTSTART:20150629T160000
DTEND:20150629T190000
LOCATION:Vaduz
ORGANIZER:MAILTO:BPW Switzerland <davos@bpw.ch>
SUMMARY:Businesstag - Das Wirtschaftsforum für Frauen
END:VEVENT
END:VCALENDAR
