BEGIN:VCALENDAR
VERSION:2.0
PRODID:-//BPW Switzerland//NONSGML kigkonsult.se iCalcreator 2.16.12//
METHOD:PUBLISH
X-MS-OLK-FORCEINSPECTOROPEN:TRUE
BEGIN:VEVENT
UID:20260422T103225CEST-3994VvbOLR@BPW Switzerland
DTSTAMP:20260422T083225Z
DESCRIPTION:BPW-Lunch im KaffeeKlatsch Davos Platz.\n\nWir treffen uns zum 
 gemütlichen Lunch im KaffeeKlatsch.\n\nAnmeldung über Doodle oder bei Heid
 i Trepp\nTel. 079 639 61 29\n 
DTSTART:20150520T120000
DTEND:20150520T133000
LOCATION:Davos Platz
ORGANIZER:MAILTO:BPW Switzerland <davos@bpw.ch>
SUMMARY:BPW Lunch
END:VEVENT
END:VCALENDAR
