BEGIN:VCALENDAR
VERSION:2.0
PRODID:-//BPW Switzerland//NONSGML kigkonsult.se iCalcreator 2.16.12//
METHOD:PUBLISH
X-MS-OLK-FORCEINSPECTOROPEN:TRUE
BEGIN:VEVENT
UID:20260422T101536CEST-0277eMwhua@BPW Switzerland
DTSTAMP:20260422T081536Z
DESCRIPTION:\n\n\n\nWeltausstellung / EXPO Milano 2015\n \n \n\nProgramm\n4
 . - 5. Oktober 2015 (Sonntag-Montag) 2 Tage\n\ninklusive \n\n\n	Fahrt im mo
 dernen Reisecar von Zumstein Car-Reisen \n	1 Übernachtung mit Frühstück in 
 einem 4*-Hotel in Mailand \n	Kurtaxen\, Mehrwertsteuer und Gebühren\n\nProg
 rammdetails\n \nKosten\n\nPauschalpreis pro Person Fr. 189.--\n\n \n\nWeg
 \n\nWir bilden Fahrgemeinschaften. Bitte im unten aufgeführten\, separaten
  Doodle eintragen\, ob ein Mitfahrplatz gewünscht wird.\nDoodle Fahrgemein
 schaften\n\n\nAnmeldung \nbis Montag\, 29. Juni 2015\n\nüber das Anmeldefo
 rmular\nper Mail an Elsbeth Kluker\noder Telefon 079 749 25 27\n \n\n\nCal
 l\n\nSend SMS\n\nCall from mobile\n\nAdd to Skype\n\nYou'll need Skype Cre
 ditFree via Skype\n\n
DTSTART:20151004T060000
DTEND:20151005T220000
ORGANIZER:MAILTO:BPW Switzerland <davos@bpw.ch>
SUMMARY:BPW Davos Klosters goes EXPO Milano 2015
END:VEVENT
END:VCALENDAR
