BEGIN:VCALENDAR
VERSION:2.0
PRODID:-//BPW Switzerland//NONSGML kigkonsult.se iCalcreator 2.16.12//
METHOD:PUBLISH
X-MS-OLK-FORCEINSPECTOROPEN:TRUE
BEGIN:VEVENT
UID:20260422T103249CEST-9420TgZEvC@BPW Switzerland
DTSTAMP:20260422T083249Z
DESCRIPTION:Freitag\, 28. August 2015\nGolf Club Lenzerheide\nSchon findet 
 die 3. BPW Golf-Trophy statt\, die dieses Jahr durch den BPW Chur organisi
 ert wird.\nLet's golf!\n \n\n \n\nWettspielart 18-Loch Zählspiel nach Stab
 leford\, vorgabewirksam\n\nDetails siehe Programm \n\nStart ab 10.00 Uhr\n
  \n\nWeg\n\nWir bilden Fahrgemeinschaften. Bitte bei der Anmeldung eintrag
 en\, ob ein Mitfahrplatz gewünscht wird.\n\n\nAnmeldung \n\n\ndirekt über 
 www.bpw.ch bis Ende Juli möglich.\n\n \n\n \n
DTSTART:20150828T100000
DTEND:20150828T200000
LOCATION:Lenzerheide
ORGANIZER:MAILTO:BPW Switzerland <davos@bpw.ch>
SUMMARY:3. BPW Golf Trophy
END:VEVENT
END:VCALENDAR
