BEGIN:VCALENDAR
VERSION:2.0
PRODID:-//BPW Switzerland//NONSGML kigkonsult.se iCalcreator 2.16.12//
METHOD:PUBLISH
X-MS-OLK-FORCEINSPECTOROPEN:TRUE
BEGIN:VEVENT
UID:20260422T102329CEST-7271opmAlU@BPW Switzerland
DTSTAMP:20260422T082329Z
DESCRIPTION: BPW-Lunch im KaffeeKlatsch Davos Platz.\n\nWir treffen uns zum
  gemütlichen Lunch im KaffeeKlatsch.\n\nAnmeldung über Doodle oder bei Hei
 di Trepp\nTel. 079 639 61 29
DTSTART:20151118T120000
DTEND:20151118T133000
LOCATION:KaffeeKlatsch Davos Platz
ORGANIZER:MAILTO:BPW Switzerland <davos@bpw.ch>
SUMMARY:BPW Lunch
END:VEVENT
END:VCALENDAR
