BEGIN:VCALENDAR
VERSION:2.0
PRODID:-//BPW Switzerland//NONSGML kigkonsult.se iCalcreator 2.16.12//
METHOD:PUBLISH
X-MS-OLK-FORCEINSPECTOROPEN:TRUE
BEGIN:VEVENT
UID:20260422T102944CEST-91494vtwUU@BPW Switzerland
DTSTAMP:20260422T082944Z
DESCRIPTION:Dem Kiwanisclub Davos Klosters ist es gelungen\, Peter Hiegelsp
 erger\, der bekannte Künstler aus dem Südtirol nach Klosters einzuladen. 
 \n\nMontag\, 7. Dezember 2015 ab 19.00 bis 21.00 Uhr \nHotel Alpina\, Klos
 ters Platz \n\nMan hat die Gelegenheit\, dem Künstler beim Malen über die 
 Schultern zu schauen und mit seiner humorvollen\, witzigen Art wird er sic
 her unsere Fragen beantworten können. Das Malen ist aber nur die eine Seit
 e des Künstlers. Die andere ist seine Fähigkeit\, sich selbst und andere o
 ptimal zu vermarkten. Hiegelsperger stellte bereits in den verschiedensten
  Städten Europas aus. Mailand\, Baden-Baden\, Ulm\, Gelsenkirchen\, Essen\
 , Tuttlingen\, Reutlingen\, Sölden\, St. Anton\, Würzburg\, Frankfurt\, Gr
 az\, Salzburg\, Innsbruck\, Kitzbühel\, Klagenfurt\, Wien\, Paris\, Münche
 n\, Ludwigsburg\, Nürnberg\, Stuttgart\, Heilbronn\, Zürich und in Singapu
 r. Mehr zur Person findet man unter www.hiegelsperger.com.\n\nDer Apéritif
  wird durch den Kiwanisclub Davos Klosters offeriert. Selbstverständlich k
 ann dieser Abend mit einem guten 3-Gang Menü zum Spezialpreis von CHF 45.0
 0 abgerundet werden. Tischreservationen unter Tel. 081 410 24 24 oder hote
 l@alpina-klosters.ch.
DTSTART:20151207T190000
DTEND:20151207T210000
LOCATION:Hotel Alpina Klosters Platz
ORGANIZER:MAILTO:BPW Switzerland <davos@bpw.ch>
SUMMARY:Peter Hiegelsperger in Klosters
END:VEVENT
END:VCALENDAR
