BEGIN:VCALENDAR
VERSION:2.0
PRODID:-//BPW Switzerland//NONSGML kigkonsult.se iCalcreator 2.16.12//
METHOD:PUBLISH
X-MS-OLK-FORCEINSPECTOROPEN:TRUE
BEGIN:VEVENT
UID:20260422T102346CEST-023170lmSB@BPW Switzerland
DTSTAMP:20260422T082346Z
DESCRIPTION:\n\nVor 60 Jahren\, am 9. Januar 1956\, legten elf fortschrittl
 iche Frauen in Davos den Grundstein für den 10. Club des schweizerischen V
 erbandes Berufs- und Geschäftsfrauen BGF. Zusammen möchten wir auf 60 Jahr
 e BPW anstossen und in alten Zeiten schwelgen.\n\nProgramm\n19.00 - 21.00 
 Uhr\nJubiläumsaperitif mit Häppchen im Cioccolino Davos\n\nKosten\nDer Anl
 ass selber ist kostenlos. Der Aperitif wird zur Feier von BPW Davos Kloste
 rs übernommen. Eingeladen sind Mitglieder und Ehemalige von BPW Davos Klos
 ters.\n\nAnmeldung  bis Montag\, 11. Januar 2016 \n\nper Anmeldedoodle ode
 r schriftlich an info@bpw-davosklosters.ch \n
DTSTART:20160113T190000
DTEND:20160113T210000
LOCATION:BPW Davos Klosters\, Cioccolino Davos
ORGANIZER:MAILTO:BPW Switzerland <davos@bpw.ch>
SUMMARY:Jubiläumsaperitif
END:VEVENT
END:VCALENDAR
