BEGIN:VCALENDAR
VERSION:2.0
PRODID:-//BPW Switzerland//NONSGML kigkonsult.se iCalcreator 2.16.12//
METHOD:PUBLISH
X-MS-OLK-FORCEINSPECTOROPEN:TRUE
BEGIN:VEVENT
UID:20260422T103236CEST-0446dmxZZN@BPW Switzerland
DTSTAMP:20260422T083236Z
DESCRIPTION:\n \nProgramm\n\n19.00 Uhr Begrüssung und Apéro im Restaurant A
 lpenhof\nAnschliessend Abendessen mit Kerzenlichtzeremonie\n \n\nMenu\n\nW
 intersalat mit Steinpilzen\n***\nKalbssteak mit Gemüsevariation und Parmes
 anrisotto\nVegetarisch: Gemüsevariation auf Parmesanrisotto\n***\nFrische 
 Früchte mit Sorbetvariation\n\nFr. 50.00\n \n\nKosten\n\nDer Anlass selber
  ist kostenlos. Essen und Getränke gehen zu Lasten der Teilnehmenden und w
 erden direkt vor Ort in bar beglichen.\n \n\nWeg\n\nWir bilden Fahrgemeins
 chaften. Bitte bei der Anmeldung eintragen\, ob ein Mitfahrplatz gewünscht
  wird.\n \n\nAnmeldung \nbis Montag\, 15. Februar 2016\n\nüber den Anmelde
 doodle \noder per Mail an Martina Walsoe\n\n \n
DTSTART:20160217T190000
DTEND:20160217T230000
LOCATION:BPW Davos Klosters\, Restaurant Alpenhof Davos
ORGANIZER:MAILTO:BPW Switzerland <davos@bpw.ch>
SUMMARY:Kerzenlichtfeier
END:VEVENT
END:VCALENDAR
