BEGIN:VCALENDAR
VERSION:2.0
PRODID:-//BPW Switzerland//NONSGML kigkonsult.se iCalcreator 2.16.12//
METHOD:PUBLISH
X-MS-OLK-FORCEINSPECTOROPEN:TRUE
BEGIN:VEVENT
UID:20260422T103104CEST-4917xV7Lgo@BPW Switzerland
DTSTAMP:20260422T083104Z
DESCRIPTION:\n\n\nOrganisiert von den Davoser Frauenvereinen und der Kunstg
 esellschaft Davos\n\n\nProgramm\n\n20.00 Uhr\n\nLesung mit Elisabeth Bardi
 ll-Meyer:\n\nBesonders am Herzen liegen Frau Bardill\,  Porträts von Mensc
 hen\, die in diesem Kanton leben und arbeiten. Diese Vorliebe kommt auch i
 n ihren Büchern zum Ausdruck\, die sie im Eigenverlag (edition bardill) he
 rausgegeben hat\, darunter 'Fünf Frauen im Prättigau'\, 'Fünf Safier Fraue
 n'\, '16 Handwerkerporträts aus Graubünden' sowie 'Frauen in Tenna'. In ih
 ren Frauenporträts gelingt es Elisabeth Bardill\, die mit ihrem Mann Jakob
  Bardill seit 2004 in Tenna lebt\, verschiedene Lebensformen und das Spann
 ungsverhältnis vieler Frauen zwischen Anpassung und Widerstand zu schilder
 n.\n\nAnschliessend gemütlicher Umtrunk.\n \n\nKosten\n\nDer Anlass selber
  ist kostenlos für Mitglieder.\n \n\nPatronat\n\nBündnerinnen Vereinigung 
 I BPW I Frauenbund I Kath. Frauenverein I Landfrauen\n \n\nAnmeldung \nbis
  Montag\, 7. März 2016\nüber den Anmeldedoodle\n 
DTSTART:20160308T200000
DTEND:20160308T220000
LOCATION:BPW Davos Klosters\, Hotel Seehof Davos Dorf
ORGANIZER:MAILTO:BPW Switzerland <davos@bpw.ch>
SUMMARY:Internationaler Tag der Frau 
END:VEVENT
END:VCALENDAR
