BEGIN:VCALENDAR
VERSION:2.0
PRODID:-//BPW Switzerland//NONSGML kigkonsult.se iCalcreator 2.16.12//
METHOD:PUBLISH
X-MS-OLK-FORCEINSPECTOROPEN:TRUE
BEGIN:VEVENT
UID:20260422T102345CEST-2013xuJR6U@BPW Switzerland
DTSTAMP:20260422T082345Z
DESCRIPTION:\n\nEinladung für alle Mitglieder von BPW Davos Klosters zur 60
 . Mitgliederversammlung\n\nBeginn 19.00 Uhr\, Sunstar Alpine Hotel Davos\n
 \nProgramm/ Traktanden\n\n1. Begrüssung und Wahl der Stimmenzählerinnen\n
 \n2. Protokoll der 59. Jahresversammlung vom 18. März 2015\nBeilage: Proto
 koll der 59. Jahresversammlung\n\n3. Jahresbericht 2015\n\n4. Jahresrechnu
 ng 2015 und Entlastung des Vorstandes\nBeilage: Jahresrechnung 2015\n\n5. 
 Mitgliederbeitrag 2016\nAntrag: wie bisher CHF 300.00\n\n6. Budget 2016\nB
 eilage: Budget 2016\n\n7. Wahlen\n\nVorstand\nWiederwahl: Martina Walsoe u
 nd Corinne Gut Klucker\nNeuwahlen: Demission: Elsbeth Kluker\, Eva Waldbur
 ger\nVorschlag neu: Sema Miller\, Michaela Wolf\n\n8. Verschiedenes und Um
 frage\n\nGrusswort Monique Ryser\, Past Presdent BPW Switzerland\nBPW Netz
 werk – lokal – regional – national – international\n\nIm Anschluss an die 
 Jahresversammlung gemütliches Beisammensein mit Apéro Riche.\n\nInteressen
 tinnen sind herzlich eingeladen\, an der GV teilzunehmen\, sie haben aber 
 kein Stimmrecht.\n \n\nMenu\n\nApéro Riche für CHF 30.00 pro Person \n \n
 \nKosten\n\nDer Anlass selber ist kostenlos. Der Apéro Riche geht zu Laste
 n der Teilnehmenden und wird direkt vor Ort in bar beglichen (Inkasso beim
  Eingang).\n \n\nAnmeldung \nbis Montag\, 14. März 2016\n\nper Anmeldedood
 le\noder E-Mail an Martina Walsoe\n 
DTSTART:20160316T190000
DTEND:20160316T223000
LOCATION:BPW Davos Klosters\, Sunstar Alpine Hotel Davos
ORGANIZER:MAILTO:BPW Switzerland <davos@bpw.ch>
SUMMARY:60. Mitgliederversammlung
END:VEVENT
END:VCALENDAR
