BEGIN:VCALENDAR
VERSION:2.0
PRODID:-//BPW Switzerland//NONSGML kigkonsult.se iCalcreator 2.16.12//
METHOD:PUBLISH
X-MS-OLK-FORCEINSPECTOROPEN:TRUE
BEGIN:VEVENT
UID:20260422T103316CEST-9826RLIF4N@BPW Switzerland
DTSTAMP:20260422T083316Z
DESCRIPTION:\n\nProgramm\n\n19.00 Uhr\nBesammlung und Führung durch das Sch
 nee- und Lawinenforschungsinstitut Davos\n\n20.15 Uhr\nProgrammänderung! G
 emeinsame Fahrt zum Restaurant Hänggis\, Davos Platz\n(Wir bilden Fahrgeme
 inschaften - bitte bei Anmeldung angeben)\n\n20.30 Uhr\nAbendessen im Rest
 aurant Hänggis\n \n\nMenu\n\nÀ la carte - Jeder darf frei nach Wunsch best
 ellen.\n \n\nKosten\n\nDer Anlass selber ist kostenlos. Essen und Getränke
  gehen zu Lasten der Teilnehmenden und werden direkt vor Ort in bar beglic
 hen.\n \n\nWeg\n\nWir bilden Fahrgemeinschaften. Bitte bei der Anmeldung e
 intragen\, ob ein Mitfahrplatz besteht bzw. gewünscht wird.\n \n\nAnmeldun
 g \nbis Montag\, 18. April 2016\n\nüber den Anmeldedoodle \nper Mail an Ma
 rtina Walsoe\n \n
DTSTART:20160420T190000
DTEND:20160420T223000
LOCATION:BPW Davos Klosters\, Davos Dorf
ORGANIZER:MAILTO:BPW Switzerland <davos@bpw.ch>
SUMMARY:Betrieb in unserer Region - SLF Davos
END:VEVENT
END:VCALENDAR
