BEGIN:VCALENDAR
VERSION:2.0
PRODID:-//BPW Switzerland//NONSGML kigkonsult.se iCalcreator 2.16.12//
METHOD:PUBLISH
X-MS-OLK-FORCEINSPECTOROPEN:TRUE
BEGIN:VEVENT
UID:20260420T142651CEST-9258897Z9F@BPW Switzerland
DTSTAMP:20260420T122651Z
DESCRIPTION:\n\nDetails\nBei diesem ungezwungenen Treffen werden wir ein fe
 ines Mittagessen geniessen und haben Zeit\, uns zu unterhalten und auszuta
 uschen.\n\nTreffpunkt: 12.00 Uhr\nOrt: Restaurant Cioccolino  (bitte beach
 tet die Lokaländerung)\n\nAnmeldung\nPer Anmeldedoodle oder\nE-Mail an Mar
 tina Walsoe\n\n 
DTSTART:20160518T120000
DTEND:20160518T133000
LOCATION:BPW Davos Klosters\, Restaurant Cioccolino
ORGANIZER:MAILTO:BPW Switzerland <davos@bpw.ch>
SUMMARY:BPW Networking Lunch
END:VEVENT
END:VCALENDAR
