BEGIN:VCALENDAR
VERSION:2.0
PRODID:-//BPW Switzerland//NONSGML kigkonsult.se iCalcreator 2.16.12//
METHOD:PUBLISH
X-MS-OLK-FORCEINSPECTOROPEN:TRUE
BEGIN:VEVENT
UID:20260422T103117CEST-8461rxuxut@BPW Switzerland
DTSTAMP:20260422T083117Z
DESCRIPTION:Die neuen Märkte: Ein Hauch von China für Davos\n\n\n\nProgramm
 \n\n19.00 Uhr Apéritif\n\nAnschliessend Sprachkurs - Hotelrundgang:\nHotel
 führung mit kleinen sprachlichen und interkulturellen Tipps für den Alltag
  mit Chinesischen Gästen\n\n20.00 Uhr Einführungsreferat Martina Walsoe\n
 \n20.30 Uhr Abendessen im Restaurant Garden Grille & Bar\n \n\nMenu\n\nKle
 iner Gartensalat der Saison\n***\nFisch: Doradenfilet an Olivenkruste mit 
 Datteltomaten Fondue\nVegi: Gemüse Quiche mit Tomaten Coulis\n\nFr. 35.00
 \n \n\nKosten\n\nDer Anlass selber ist kostenlos. Essen und Getränke gehen
  zu Lasten der Teilnehmenden und werden direkt vor Ort in bar beglichen.\n
  \n\nAnmeldung \nbis Montag\, 13. Juni 2016\n\nAbmeldungen kostenpflichtig
  ab 13.06. \nper Mail an Martina Walsoe\n
DTSTART:20160615T190000
DTEND:20160615T220000
LOCATION:BPW Davos Klosters\, Davos Platz
ORGANIZER:MAILTO:BPW Switzerland <davos@bpw.ch>
SUMMARY:Einführungsreferat Martina Walsoe
END:VEVENT
END:VCALENDAR
