BEGIN:VCALENDAR
VERSION:2.0
PRODID:-//BPW Switzerland//NONSGML kigkonsult.se iCalcreator 2.16.12//
METHOD:PUBLISH
X-MS-OLK-FORCEINSPECTOROPEN:TRUE
BEGIN:VEVENT
UID:20260422T101432CEST-6194lfAvNj@BPW Switzerland
DTSTAMP:20260422T081432Z
DESCRIPTION:Fotoausstellung Heimat-Zauber & Foto-Träume\nvon Corinne Gut Kl
 ucker\n\n\n\nZum Sommerhappening sind Freunde\, Familie\, Bekannte und Int
 eressenten\neingeladen. Wir freuen uns auf viele Teilnehmerinnen/Teilnehme
 r. \n\nProgramm\n\n19.00 Uhr Treffpunkt vor dem Nutli Hüschi in Klosters\n
 Die Museumsleitung nimmt uns mit auf eine spannende Reise in die Vergangen
 heit. Anschliessend führt uns unser Mitglied Corinne Gut Klucker durch ihr
 e Fotoausstellung 'Heimat- Zauber & Foto-Träume'.\n\n20.15 Uhr Buffet vor 
 Ort\n \n\nMenu\n\nHausgemachtes Salziges und Süsses vom Kesslerhof (von un
 serem Mitglied Marianne Kessler liebevoll zubereitet).\n \n\nKosten\n\nBuf
 fet inkl. Getränke\, Museumseintritt und Führung CHF 40.00 pro Person. Die
  Kosten werden direkt vor Ort in bar beglichen.\n \n\nWeg\n\nWir bilden Fa
 hrgemeinschaften. Bitte bei der Anmeldung eintragen\, ob ein Mitfahrplatz 
 gewünscht wird. Parkplätze unterhalb der Ref. Kirche\, Casanna Parkplatz.
 \n \n\nAnmeldung \nbis Montag\, 18. Juli 2016\n\nüber den Anmeldedoodle \n
 oder per Mail an Martina Walsoe\n\nAbmeldungen: Bis zum 18. Juli 2016 bis 
 18.00 Uhr kostenlos\, danach werden die anfallenden Kosten dem Teilnehmer 
 verrechnet.\n\n \n
DTSTART:20160720T190000
DTEND:20160720T223000
LOCATION:Nutli-Hüschi Klosters
ORGANIZER:MAILTO:BPW Switzerland <davos@bpw.ch>
SUMMARY:Sommerhappening BPW and friends
END:VEVENT
END:VCALENDAR
