BEGIN:VCALENDAR
VERSION:2.0
PRODID:-//BPW Switzerland//NONSGML kigkonsult.se iCalcreator 2.16.12//
METHOD:PUBLISH
X-MS-OLK-FORCEINSPECTOROPEN:TRUE
BEGIN:VEVENT
UID:20260422T101508CEST-3392vrhs8o@BPW Switzerland
DTSTAMP:20260422T081508Z
DESCRIPTION:\n\n\nProgramm\n\nDas Programm entnehmt ihr dem separaten Progr
 ammflyer\n \n\nAnmeldung\n\nBis 31. März 2016 per Post an:\n\nBLT Rosmarie
  Cavigelli\nCastaletweg 61\n7206 Igis\n\noder per E-mail \n\n \n\n \n\n \n
 \n \n\n \n\n \n\n \n\n\n\n 
DTSTART:20160820T060000
DTEND:20160821T220000
LOCATION:BPW Davos Klosters
ORGANIZER:MAILTO:BPW Switzerland <davos@bpw.ch>
SUMMARY:Jubiläumsausflug 60 Jahre BPW Davos Klosters
END:VEVENT
END:VCALENDAR
