BEGIN:VCALENDAR
VERSION:2.0
PRODID:-//BPW Switzerland//NONSGML kigkonsult.se iCalcreator 2.16.12//
METHOD:PUBLISH
X-MS-OLK-FORCEINSPECTOROPEN:TRUE
BEGIN:VEVENT
UID:20260422T103250CEST-2278Jvp5eg@BPW Switzerland
DTSTAMP:20260422T083250Z
DESCRIPTION:Mehr Informationen zu den Veranstaltungsdetails findet ihr hier
 .\n\nDamit wir innerhalb des Clubs eine Übersicht haben\, wer an der Veran
 staltung teilnimmt\, tragt euch bitte im folgenden Doodle ein:\n\nDoodle B
 PW European Conference 2016\n\n 
DTSTART:20160930T120000
DTEND:20161002T130000
LOCATION:Universität Zürich
ORGANIZER:MAILTO:BPW Switzerland <davos@bpw.ch>
SUMMARY:15th BPW European Conference (Doodle Davos Klosters)
END:VEVENT
END:VCALENDAR
