BEGIN:VCALENDAR
VERSION:2.0
PRODID:-//BPW Switzerland//NONSGML kigkonsult.se iCalcreator 2.16.12//
METHOD:PUBLISH
X-MS-OLK-FORCEINSPECTOROPEN:TRUE
BEGIN:VEVENT
UID:20260422T143207CEST-2662w5fa1U@BPW Switzerland
DTSTAMP:20260422T123207Z
DESCRIPTION:Mein Leben\, meine Passion\, meine Arbeit\n\n\n \n\nProgramm\n
 \nAb 18.30 Uhr Apéro\nim Uhren & Schmuck Geschäft\nPromenade 49\, 7270 Dav
 os Platz\n\n19.15 Uhr Produktepräsentation und Einführungsreferat\n\nAnsch
 liessend Spaziergang zum Hotel GRISCHA zum Abendessen\n \n\nMenu\n\nKürbis
 crèmesuppe\n***\nGebratene Pouletbrust\, Kräuterjus\, Pilz-Risotto & Ofent
 omate\n \nVegi: Bärlauch Kartoffelstrudel mit Rahmgemüse\n \nFr. 39.00 pro
  Person\n \nDessert kann à la carte bestellt werden\n \n\nKosten\n\nDer An
 lass selber ist kostenlos. Essen und Getränke gehen zu Lasten der Teilnehm
 enden und werden direkt vor Ort in bar beglichen.\n \n\nWeg\n\nWir bilden 
 Fahrgemeinschaften. Bitte bei der Anmeldung eintragen\, ob ein Mitfahrplat
 z gewünscht wird.\n \n\nAnmeldung \nbis Montag\, 17. Oktober 2016\n \n\nüb
 er den Anmeldedoodle \nper Mail an Martina Walsoe\nAbmeldungen: Bis zum 17
 . Oktober 2016 bis 18.00 Uhr kostenlos\, danach werden die anfallenden Kos
 ten dem Teilnehmer verrechnet.\n
DTSTART:20161019T183000
DTEND:20161019T223000
LOCATION:BPW Davos Klosters
ORGANIZER:MAILTO:BPW Switzerland <davos@bpw.ch>
SUMMARY:Einführungsreferat Isabella Schneider
END:VEVENT
END:VCALENDAR
