BEGIN:VCALENDAR
VERSION:2.0
PRODID:-//BPW Switzerland//NONSGML kigkonsult.se iCalcreator 2.16.12//
METHOD:PUBLISH
X-MS-OLK-FORCEINSPECTOROPEN:TRUE
BEGIN:VEVENT
UID:20260422T103138CEST-74297NUuE4@BPW Switzerland
DTSTAMP:20260422T083138Z
DESCRIPTION: \nProgramm\n10.00 Uhr Rote Taschen verteilen\n12.00 Uhr Mittag
 essen Kaffee Klatsch\n \nKosten\nDer Anlass selbst ist kostenlos. Essen un
 d Getränke gehen zu Lasten der Teilnehmenden und werden direkt vor Ort beg
 lichen.\n\nAnmeldung für Verteilung und/oder Mittagessen\n\nbis Montag\, 2
 2. Februar 2016\nper Mail an Heidi Trepp
DTSTART:20160224T120000
DTEND:20160224T133000
LOCATION:BPW Davos Klosters\, KaffeeKlatsch\, Davos Platz
ORGANIZER:MAILTO:BPW Switzerland <davos@bpw.ch>
SUMMARY:Equal Pay Day
END:VEVENT
END:VCALENDAR
