BEGIN:VCALENDAR
VERSION:2.0
PRODID:-//BPW Switzerland//NONSGML kigkonsult.se iCalcreator 2.16.12//
METHOD:PUBLISH
X-MS-OLK-FORCEINSPECTOROPEN:TRUE
BEGIN:VEVENT
UID:20260422T103057CEST-1439vSOpue@BPW Switzerland
DTSTAMP:20260422T083057Z
DESCRIPTION:Programm\n13.30 bis 17.00 Uhr\nWorkshop im Restaurant Va bene i
 n Chur zu Fragen zum Thema Verwaltungstätigkeit.\n \nExpertinnen:\nCarmen 
 Pipola\, Monika Stur\, Claudine Blaser\, Nora Willi.\n\nDetailprogramm und
  Anmeldung\n 
DTSTART:20160513T133000
DTEND:20160513T170000
LOCATION:Chur Restaurant Va Bene
ORGANIZER:MAILTO:BPW Switzerland <davos@bpw.ch>
SUMMARY:Workshop Women on Board
END:VEVENT
END:VCALENDAR
