BEGIN:VCALENDAR
VERSION:2.0
PRODID:-//BPW Switzerland//NONSGML kigkonsult.se iCalcreator 2.16.12//
METHOD:PUBLISH
X-MS-OLK-FORCEINSPECTOROPEN:TRUE
BEGIN:VEVENT
UID:20260422T101508CEST-6547PCPglz@BPW Switzerland
DTSTAMP:20260422T081508Z
DESCRIPTION: \n\n\nWie überwachen Sie den Geschäftsgang?\nWie finanzieren S
 ie Ihr Unternehmen?\n\nVoraussetzung für die Teilnahme ist der Besuch des 
 BPW Finanzkurses I.\n \n\n\n\nDer Kurs bietet theoretische Grundlagen und 
 interaktive Workshops für (zukünftige) Führungskräfte und/oder Verwaltungs
 ratsmitglieder. Der Kurs basiert auf Interaktion mit den Teilnehmerinnen i
 m Wechsel mit der Präsentation der theoretischen Finanzgrundlagen\, Diskus
 sionen über reelle Fälle\, Erfahrungsaustausch und von den Referenten begl
 eiteten interaktiven Arbeitssitzungen.\n\n\n	Wiederholung der wichtigsten E
 rkenntnisse und Schlussfolgerungen aus dem Finanzkurs I (Bilanz\, Erfolgsr
 echnung\, Geldflussrechnung\, Revisionsstellenbericht\, etc.)\n	Key Perform
 ance Indicators: Wie überwachen Sie den Geschäftsgang Ihres Unternehmens w
 ährend des Jahres?\n	Finanzierungsarten: welche Finanzierungsquellen können
  Sie in den verschiedenen Lebensphasen für Ihr Unternehmen erschliessen?\n
 	Einführung in die Elemente der finanziellen Führung (Bilanz\, Erfolgsrechn
 ung\, Geldflussrechnung\, Revisionsstellenbericht\, etc.) \n\n\n\nDozentin
 nen: \nMonika Welti\, Nora Willi\n\n\nZu den Dozentinnen:\n \nMonika Welti
  bringt mehre Jahre Erfahrung als CFO und Mitglied der Geschäftsleitung in
  mittelständischen Unternehmungen der Immobilienbranche\, Industrie wie au
 s Private Equity-Unternehmungen mit. In dieser Funktion ist sie Lieferanti
 n von Finanzinformationen zu Handen der Geschäftsleitung\, des Verwaltungs
 rates und der Aktionäre. Sie kennt die Anforderungen dieser Stakeholders a
 us verschiedenen Lebensphasen eines Unternehmens – von Neugründungen\, übe
 r reife\, stabile Unternehmungen bis hin zu Unternehmen in der Krise und i
 st daher vertraut mit den unterschiedlichen Anforderungen an Finanzinforma
 tionen.\n\nMonika Welti verfügt über einen Abschluss als Betriebsökonomin 
 FH und als eidg. dipl. Wirtschaftsprüferin. In früheren Funktionen arbeite
 te sie während mehrerer Jahre als Wirtschaftsprüferin bei grossen\, intern
 ational Prüfgesellschaften sowie als Leiterin Controlling in einem börsenk
 otierten Industriebetrieb und einem Infrastrukturunternehmen des Bundes.\n
 \n \n\nNora Willi bringt mehre Jahre Erfahrung als Verwaltungsrätin in meh
 reren KMUs mit. Als Verwaltungsratsmitglied in diesen Unternehmen ist sie 
 für das Finanzcontrolling verantwortlich und ist bei zwei Verwaltungsräten
  Präsidentin. Sie hat Erfahrung mit Unternehmen in den unterschiedlichsten
  finanziellen Situationen und weiss\, welche Finanzinformationen benötigt 
 werden\, um die Unternehmenssituation einschätzen zu können und allfällige
  notwendige Anpassungen in die Wege zu leiten.\n\nNora Willi verfügt über 
 einen Abschluss als Betriebsökonomin FH und einen Master in systemischer O
 rganisationsberatung. Sie ist seit über zehn Jahren im Beratungsgeschäft t
 ätig. Sie berät mittelständische Unternehmen und Organisationen in Verände
 rungsprozessen und begleitet Führungskräfte in herausfordernden Situatione
 n.\n\nTeilnahmegebühr:\nCHF 250.00 für BPW und eingetragene Interessentinn
 en\nCHF 350.00 für Nicht-BPW\n\nAnmeldung:\nDie Anmeldung ist verbindlich.
  Eine Gebühr von CHF 30.00 wird bei Annullierung bis zum 14. August 2016 e
 rhoben. Bei Annullationen ab dem 15. Augus 2016 oder bei Nicht-Erscheinen 
 ohne vorgängige Annullierung wird die gesamte Teilnahmegebühr fällig. \n\n
 Programm\n\n \n\n
DTSTART:20160824T133000
DTEND:20160824T173000
LOCATION:Olten
ORGANIZER:MAILTO:BPW Switzerland <davos@bpw.ch>
SUMMARY:Finanzkurs II: Finanzkennzahlen verstehen
END:VEVENT
END:VCALENDAR
