BEGIN:VCALENDAR
VERSION:2.0
PRODID:-//BPW Switzerland//NONSGML kigkonsult.se iCalcreator 2.16.12//
METHOD:PUBLISH
X-MS-OLK-FORCEINSPECTOROPEN:TRUE
BEGIN:VEVENT
UID:20260422T101432CEST-9926fMBG7w@BPW Switzerland
DTSTAMP:20260422T081432Z
DESCRIPTION:Am 26. August 2016 organisiert der BPW Club Toggenburg die trad
 itionelle BPW Golf Trophy in Gonten\, am Fuss des Säntis.  Wir möchten ALL
 E Mitgliederinnen ansprechen und sie herzlich ins schöne Appenzellerland e
 inladen. Auch für Nichtgolferinnen ist das eine einmalige Gelegenheit\, am
  Golfsport zu schnuppern. Es muss ja nicht jede Teilnehmerin später eine G
 olfspielerin werden. Es bleibt auch so ein Erlebnis\, das man nicht so sch
 nell vergessen wird.\n\nAppenzeller und Toggenburger sind bekannt für Ihre
  Gastfreundschaft. Unsere Sponsoren unterstützen uns grosszügig und erlaub
 en es\, ein attraktives Angebot und schöne Siegerpreise bereitzustellen. W
 eitere Informationen wie z.B.  Anmeldeformalitäten sind im beiliegenden Fl
 yer (kleine Änderungen vorbehalten).\n \nKontakt\n\nFlyer
DTSTART:20160826T100000
DTEND:20160826T210000
LOCATION:Golfplatz Gonten\, 9108 Gontenbad
ORGANIZER:MAILTO:BPW Switzerland <davos@bpw.ch>
SUMMARY:4. BPW Golf-Trophy 2016
END:VEVENT
END:VCALENDAR
